Package: SAIGEgds Version: 2.7.1 Command: /home/biocbuild/R/R/bin/R CMD check --install=check:SAIGEgds.install-out.txt --library=/home/biocbuild/R/R/site-library --no-vignettes --timings SAIGEgds_2.7.1.tar.gz StartedAt: 2025-01-28 14:51:20 -0000 (Tue, 28 Jan 2025) EndedAt: 2025-01-28 14:53:30 -0000 (Tue, 28 Jan 2025) EllapsedTime: 129.1 seconds RetCode: 1 Status: ERROR CheckDir: SAIGEgds.Rcheck Warnings: NA