Package: SAIGEgds Version: 2.7.1 Command: /Library/Frameworks/R.framework/Resources/bin/R CMD check --install=check:SAIGEgds.install-out.txt --library=/Library/Frameworks/R.framework/Resources/library --no-vignettes --timings SAIGEgds_2.7.1.tar.gz StartedAt: 2025-02-03 23:02:08 -0500 (Mon, 03 Feb 2025) EndedAt: 2025-02-03 23:04:52 -0500 (Mon, 03 Feb 2025) EllapsedTime: 163.2 seconds RetCode: 0 Status: OK CheckDir: SAIGEgds.Rcheck Warnings: 0