Package: SAIGEgds Version: 2.7.1 Command: /Library/Frameworks/R.framework/Resources/bin/R CMD INSTALL SAIGEgds StartedAt: 2025-02-09 15:38:31 -0500 (Sun, 09 Feb 2025) EndedAt: 2025-02-09 15:39:38 -0500 (Sun, 09 Feb 2025) EllapsedTime: 66.4 seconds RetCode: 0 Status: OK