Package: SAIGEgds Version: 2.7.1 Command: /home/biocbuild/bbs-3.21-bioc/R/bin/R CMD build --keep-empty-dirs --no-resave-data SAIGEgds StartedAt: 2025-02-09 19:03:05 -0500 (Sun, 09 Feb 2025) EndedAt: 2025-02-09 19:04:25 -0500 (Sun, 09 Feb 2025) EllapsedTime: 80.1 seconds RetCode: 0 Status: OK PackageFile: SAIGEgds_2.7.1.tar.gz PackageFileSize: 1.974 MiB