Package: SAIGEgds Version: 2.7.1 Command: /home/biocbuild/bbs-3.21-bioc/R/bin/R CMD INSTALL SAIGEgds StartedAt: 2025-02-09 15:22:47 -0500 (Sun, 09 Feb 2025) EndedAt: 2025-02-09 15:23:56 -0500 (Sun, 09 Feb 2025) EllapsedTime: 69.3 seconds RetCode: 0 Status: OK