Package: SAIGEgds Version: 2.7.1 Command: chmod a+r SAIGEgds -R && E:\biocbuild\bbs-3.21-bioc\R\bin\R.exe CMD build --keep-empty-dirs --no-resave-data SAIGEgds StartedAt: 2025-02-03 21:35:00 -0500 (Mon, 03 Feb 2025) EndedAt: 2025-02-03 21:37:41 -0500 (Mon, 03 Feb 2025) EllapsedTime: 160.9 seconds RetCode: 0 Status: OK PackageFile: SAIGEgds_2.7.1.tar.gz PackageFileSize: 1.858 MiB