Package: SAIGEgds Version: 2.7.1 Command: E:\biocbuild\bbs-3.21-bioc\R\bin\R.exe CMD check --no-multiarch --install=check:SAIGEgds.install-out.txt --library=E:\biocbuild\bbs-3.21-bioc\R\library --no-vignettes --timings SAIGEgds_2.7.1.tar.gz StartedAt: 2025-02-10 04:59:13 -0500 (Mon, 10 Feb 2025) EndedAt: 2025-02-10 05:02:16 -0500 (Mon, 10 Feb 2025) EllapsedTime: 183.0 seconds RetCode: 0 Status: OK CheckDir: SAIGEgds.Rcheck Warnings: 0