Package: SANTA Version: 2.43.0 Command: rm -rf SANTA.buildbin-libdir && mkdir SANTA.buildbin-libdir && /Users/biocbuild/BBS/utils/build-universal.sh SANTA_2.43.0.tar.gz /Library/Frameworks/R.framework/Resources/bin/R SANTA.buildbin-libdir StartedAt: 2025-02-13 00:56:24 -0500 (Thu, 13 Feb 2025) EndedAt: 2025-02-13 00:56:40 -0500 (Thu, 13 Feb 2025) EllapsedTime: 16.1 seconds RetCode: 0 Status: OK PackageFile: SANTA_2.43.0.tgz PackageFileSize: 4.134 MiB