Package: SANTA Version: 2.43.0 Command: /Library/Frameworks/R.framework/Resources/bin/R CMD check --install=check:SANTA.install-out.txt --library=/Library/Frameworks/R.framework/Resources/library --no-vignettes --timings SANTA_2.43.0.tar.gz StartedAt: 2025-02-09 23:19:49 -0500 (Sun, 09 Feb 2025) EndedAt: 2025-02-09 23:21:02 -0500 (Sun, 09 Feb 2025) EllapsedTime: 73.6 seconds RetCode: 0 Status: OK CheckDir: SANTA.Rcheck Warnings: 0