Package: SBGNview Version: 1.21.0 Command: rm -rf SBGNview.buildbin-libdir && mkdir SBGNview.buildbin-libdir && /Users/biocbuild/BBS/utils/build-universal.sh SBGNview_1.21.0.tar.gz /Library/Frameworks/R.framework/Resources/bin/R SBGNview.buildbin-libdir StartedAt: 2025-02-09 22:29:12 -0500 (Sun, 09 Feb 2025) EndedAt: 2025-02-09 22:29:29 -0500 (Sun, 09 Feb 2025) EllapsedTime: 16.3 seconds RetCode: 0 Status: OK PackageFile: SBGNview_1.21.0.tgz PackageFileSize: 1.835 MiB