Package: SBGNview Version: 1.21.0 Command: /Library/Frameworks/R.framework/Resources/bin/R CMD build --keep-empty-dirs --no-resave-data SBGNview StartedAt: 2025-02-12 17:29:17 -0500 (Wed, 12 Feb 2025) EndedAt: 2025-02-12 17:30:15 -0500 (Wed, 12 Feb 2025) EllapsedTime: 58.7 seconds RetCode: 0 Status: OK PackageFile: SBGNview_1.21.0.tar.gz PackageFileSize: 1.422 MiB