Package: SBGNview Version: 1.21.0 Command: /Library/Frameworks/R.framework/Resources/bin/R CMD INSTALL SBGNview StartedAt: 2025-02-12 15:26:06 -0500 (Wed, 12 Feb 2025) EndedAt: 2025-02-12 15:26:21 -0500 (Wed, 12 Feb 2025) EllapsedTime: 14.7 seconds RetCode: 0 Status: OK