Package: SBGNview Version: 1.21.0 Command: /home/biocbuild/R/R/bin/R CMD build --keep-empty-dirs --no-resave-data SBGNview StartedAt: 2025-01-29 01:57:39 -0000 (Wed, 29 Jan 2025) EndedAt: 2025-01-29 02:00:20 -0000 (Wed, 29 Jan 2025) EllapsedTime: 161.1 seconds RetCode: 0 Status: OK PackageFile: SBGNview_1.21.0.tar.gz PackageFileSize: 1.865 MiB