Package: SBGNview Version: 1.21.0 Command: rm -rf SBGNview.buildbin-libdir && mkdir SBGNview.buildbin-libdir && /Users/biocbuild/BBS/utils/build-universal.sh SBGNview_1.21.0.tar.gz /Library/Frameworks/R.framework/Resources/bin/R SBGNview.buildbin-libdir StartedAt: 2025-02-13 00:56:30 -0500 (Thu, 13 Feb 2025) EndedAt: 2025-02-13 00:57:22 -0500 (Thu, 13 Feb 2025) EllapsedTime: 52.9 seconds RetCode: 0 Status: OK PackageFile: SBGNview_1.21.0.tgz PackageFileSize: 2.087 MiB