Package: SBGNview Version: 1.21.0 Command: /Library/Frameworks/R.framework/Resources/bin/R CMD INSTALL SBGNview StartedAt: 2025-02-09 15:39:21 -0500 (Sun, 09 Feb 2025) EndedAt: 2025-02-09 15:40:13 -0500 (Sun, 09 Feb 2025) EllapsedTime: 51.8 seconds RetCode: 0 Status: OK