Package: SBGNview Version: 1.21.0 Command: /home/biocbuild/bbs-3.21-bioc/R/bin/R CMD check --install=check:SBGNview.install-out.txt --library=/home/biocbuild/bbs-3.21-bioc/R/site-library --timings SBGNview_1.21.0.tar.gz StartedAt: 2025-02-10 02:13:01 -0500 (Mon, 10 Feb 2025) EndedAt: 2025-02-10 02:20:50 -0500 (Mon, 10 Feb 2025) EllapsedTime: 468.6 seconds RetCode: 0 Status: OK CheckDir: SBGNview.Rcheck Warnings: 0