Package: SBGNview Version: 1.21.0 Command: E:\biocbuild\bbs-3.21-bioc\R\bin\R.exe CMD check --no-multiarch --install=check:SBGNview.install-out.txt --library=E:\biocbuild\bbs-3.21-bioc\R\library --no-vignettes --timings SBGNview_1.21.0.tar.gz StartedAt: 2025-02-10 05:01:09 -0500 (Mon, 10 Feb 2025) EndedAt: 2025-02-10 05:06:34 -0500 (Mon, 10 Feb 2025) EllapsedTime: 324.3 seconds RetCode: 0 Status: OK CheckDir: SBGNview.Rcheck Warnings: 0