Package: SC3 Version: 1.35.0 Command: rm -rf SC3.buildbin-libdir && mkdir SC3.buildbin-libdir && /Users/biocbuild/BBS/utils/build-universal.sh SC3_1.35.0.tar.gz /Library/Frameworks/R.framework/Resources/bin/R SC3.buildbin-libdir StartedAt: 2025-02-09 22:29:13 -0500 (Sun, 09 Feb 2025) EndedAt: 2025-02-09 22:29:31 -0500 (Sun, 09 Feb 2025) EllapsedTime: 17.3 seconds RetCode: 0 Status: OK PackageFile: SC3_1.35.0.tgz PackageFileSize: 4.616 MiB