Package: SC3 Version: 1.35.0 Command: /Library/Frameworks/R.framework/Resources/bin/R CMD build --keep-empty-dirs --no-resave-data SC3 StartedAt: 2025-02-12 17:29:18 -0500 (Wed, 12 Feb 2025) EndedAt: 2025-02-12 17:31:54 -0500 (Wed, 12 Feb 2025) EllapsedTime: 156.8 seconds RetCode: 0 Status: OK PackageFile: SC3_1.35.0.tar.gz PackageFileSize: 3.371 MiB