Package: SC3 Version: 1.35.0 Command: /home/biocbuild/R/R/bin/R CMD check --install=check:SC3.install-out.txt --library=/home/biocbuild/R/R/site-library --no-vignettes --timings SC3_1.35.0.tar.gz StartedAt: 2025-01-28 14:53:33 -0000 (Tue, 28 Jan 2025) EndedAt: 2025-01-28 14:57:12 -0000 (Tue, 28 Jan 2025) EllapsedTime: 219.2 seconds RetCode: 0 Status: OK CheckDir: SC3.Rcheck Warnings: 0