Package: SC3 Version: 1.35.0 Command: /home/biocbuild/bbs-3.21-bioc/R/bin/R CMD check --install=check:SC3.install-out.txt --library=/home/biocbuild/bbs-3.21-bioc/R/site-library --timings SC3_1.35.0.tar.gz StartedAt: 2025-02-10 02:13:20 -0500 (Mon, 10 Feb 2025) EndedAt: 2025-02-10 02:22:49 -0500 (Mon, 10 Feb 2025) EllapsedTime: 568.7 seconds RetCode: 0 Status: OK CheckDir: SC3.Rcheck Warnings: 0