Package: SCAN.UPC Version: 2.49.0 Command: /Library/Frameworks/R.framework/Resources/bin/R CMD INSTALL SCAN.UPC StartedAt: 2025-02-09 15:33:20 -0500 (Sun, 09 Feb 2025) EndedAt: 2025-02-09 15:33:22 -0500 (Sun, 09 Feb 2025) EllapsedTime: 1.2 seconds RetCode: 1 Status: ERROR