Package: SCAN.UPC Version: 2.49.0 Command: chmod a+r SCAN.UPC -R && E:\biocbuild\bbs-3.21-bioc\R\bin\R.exe CMD build --keep-empty-dirs --no-resave-data SCAN.UPC StartedAt: 2025-02-09 21:22:54 -0500 (Sun, 09 Feb 2025) EndedAt: 2025-02-09 21:23:48 -0500 (Sun, 09 Feb 2025) EllapsedTime: 53.7 seconds RetCode: 0 Status: OK PackageFile: SCAN.UPC_2.49.0.tar.gz PackageFileSize: 558.3 KiB