Package: SCANVIS Version: 1.21.0 Command: /home/biocbuild/R/R/bin/R CMD INSTALL SCANVIS StartedAt: 2025-01-29 19:49:34 -0000 (Wed, 29 Jan 2025) EndedAt: 2025-01-29 19:50:15 -0000 (Wed, 29 Jan 2025) EllapsedTime: 40.8 seconds RetCode: 0 Status: OK