Package: SCANVIS Version: 1.21.0 Command: /Library/Frameworks/R.framework/Resources/bin/R CMD INSTALL SCANVIS StartedAt: 2025-02-09 15:17:31 -0500 (Sun, 09 Feb 2025) EndedAt: 2025-02-09 15:18:16 -0500 (Sun, 09 Feb 2025) EllapsedTime: 44.8 seconds RetCode: 0 Status: OK