Package: SCArray Version: 1.15.1 Command: /Library/Frameworks/R.framework/Resources/bin/R CMD INSTALL SCArray StartedAt: 2025-02-09 15:24:36 -0500 (Sun, 09 Feb 2025) EndedAt: 2025-02-09 15:24:51 -0500 (Sun, 09 Feb 2025) EllapsedTime: 16.0 seconds RetCode: 0 Status: OK