Package: SCArray Version: 1.15.1 Command: /Library/Frameworks/R.framework/Resources/bin/R CMD build --keep-empty-dirs --no-resave-data SCArray StartedAt: 2025-02-09 18:17:39 -0500 (Sun, 09 Feb 2025) EndedAt: 2025-02-09 18:18:55 -0500 (Sun, 09 Feb 2025) EllapsedTime: 75.8 seconds RetCode: 1 Status: ERROR PackageFile: None PackageFileSize: NA