Package: SCArray Version: 1.15.1 Command: /Library/Frameworks/R.framework/Resources/bin/R CMD check --install=check:SCArray.install-out.txt --library=/Library/Frameworks/R.framework/Resources/library --no-vignettes --timings SCArray_1.15.1.tar.gz StartedAt: 2025-02-02 22:53:42 -0500 (Sun, 02 Feb 2025) EndedAt: 2025-02-02 22:57:23 -0500 (Sun, 02 Feb 2025) EllapsedTime: 220.1 seconds RetCode: 0 Status: OK CheckDir: SCArray.Rcheck Warnings: 0