Package: SCArray Version: 1.15.1 Command: rm -rf SCArray.buildbin-libdir && mkdir SCArray.buildbin-libdir && E:\biocbuild\bbs-3.21-bioc\R\bin\R.exe CMD INSTALL --build --library=SCArray.buildbin-libdir SCArray_1.15.1.tar.gz StartedAt: 2025-02-03 08:10:54 -0500 (Mon, 03 Feb 2025) EndedAt: 2025-02-03 08:12:36 -0500 (Mon, 03 Feb 2025) EllapsedTime: 102.1 seconds RetCode: 0 Status: OK PackageFile: SCArray_1.15.1.zip PackageFileSize: 2.312 MiB