Package: SCArray Version: 1.15.1 Command: chmod a+r SCArray -R && E:\biocbuild\bbs-3.21-bioc\R\bin\R.exe CMD build --keep-empty-dirs --no-resave-data SCArray StartedAt: 2025-02-09 21:23:36 -0500 (Sun, 09 Feb 2025) EndedAt: 2025-02-09 21:25:25 -0500 (Sun, 09 Feb 2025) EllapsedTime: 109.3 seconds RetCode: 1 Status: ERROR PackageFile: None PackageFileSize: NA