Package: SCArray Version: 1.15.1 Command: E:\biocbuild\bbs-3.21-bioc\R\bin\R.exe CMD check --no-multiarch --install=check:SCArray.install-out.txt --library=E:\biocbuild\bbs-3.21-bioc\R\library --no-vignettes --timings SCArray_1.15.1.tar.gz StartedAt: 2025-02-03 04:50:31 -0500 (Mon, 03 Feb 2025) EndedAt: 2025-02-03 04:54:19 -0500 (Mon, 03 Feb 2025) EllapsedTime: 228.3 seconds RetCode: 0 Status: OK CheckDir: SCArray.Rcheck Warnings: 0