Package: SCArray Version: 1.15.1 Command: E:\biocbuild\bbs-3.21-bioc\R\bin\R.exe CMD INSTALL SCArray StartedAt: 2025-02-09 16:17:39 -0500 (Sun, 09 Feb 2025) EndedAt: 2025-02-09 16:18:57 -0500 (Sun, 09 Feb 2025) EllapsedTime: 78.2 seconds RetCode: 0 Status: OK