Package: SCFA Version: 1.17.0 Command: /Library/Frameworks/R.framework/Resources/bin/R CMD check --install=check:SCFA.install-out.txt --library=/Library/Frameworks/R.framework/Resources/library --no-vignettes --timings SCFA_1.17.0.tar.gz StartedAt: 2025-02-04 21:13:59 -0500 (Tue, 04 Feb 2025) EndedAt: 2025-02-04 21:16:13 -0500 (Tue, 04 Feb 2025) EllapsedTime: 133.5 seconds RetCode: 0 Status: OK CheckDir: SCFA.Rcheck Warnings: 0