Package: SCFA Version: 1.17.0 Command: /Library/Frameworks/R.framework/Resources/bin/R CMD INSTALL SCFA StartedAt: 2025-02-09 15:31:49 -0500 (Sun, 09 Feb 2025) EndedAt: 2025-02-09 15:32:04 -0500 (Sun, 09 Feb 2025) EllapsedTime: 14.5 seconds RetCode: 0 Status: OK