Package: SCFA Version: 1.17.0 Command: chmod a+r SCFA -R && E:\biocbuild\bbs-3.21-bioc\R\bin\R.exe CMD build --keep-empty-dirs --no-resave-data SCFA StartedAt: 2025-02-09 21:25:38 -0500 (Sun, 09 Feb 2025) EndedAt: 2025-02-09 21:28:53 -0500 (Sun, 09 Feb 2025) EllapsedTime: 195.3 seconds RetCode: 0 Status: OK PackageFile: SCFA_1.17.0.tar.gz PackageFileSize: 1.241 MiB