Package: SCOPE Version: 1.19.0 Command: rm -rf SCOPE.buildbin-libdir && mkdir SCOPE.buildbin-libdir && /Users/biocbuild/BBS/utils/build-universal.sh SCOPE_1.19.0.tar.gz /Library/Frameworks/R.framework/Resources/bin/R SCOPE.buildbin-libdir StartedAt: 2025-02-09 22:29:59 -0500 (Sun, 09 Feb 2025) EndedAt: 2025-02-09 22:30:16 -0500 (Sun, 09 Feb 2025) EllapsedTime: 16.3 seconds RetCode: 0 Status: OK PackageFile: SCOPE_1.19.0.tgz PackageFileSize: 579.8 KiB