Package: SCOPE Version: 1.19.0 Command: /home/biocbuild/R/R/bin/R CMD build --keep-empty-dirs --no-resave-data SCOPE StartedAt: 2025-01-29 02:08:20 -0000 (Wed, 29 Jan 2025) EndedAt: 2025-01-29 02:21:47 -0000 (Wed, 29 Jan 2025) EllapsedTime: 807.6 seconds RetCode: 0 Status: OK PackageFile: SCOPE_1.19.0.tar.gz PackageFileSize: 419.7 KiB