Package: SCOPE Version: 1.19.0 Command: /home/biocbuild/R/R/bin/R CMD check --install=check:SCOPE.install-out.txt --library=/home/biocbuild/R/R/site-library --no-vignettes --timings SCOPE_1.19.0.tar.gz StartedAt: 2025-01-28 15:03:45 -0000 (Tue, 28 Jan 2025) EndedAt: 2025-01-28 15:11:53 -0000 (Tue, 28 Jan 2025) EllapsedTime: 487.4 seconds RetCode: 0 Status: OK CheckDir: SCOPE.Rcheck Warnings: 0