Package: SCOPE Version: 1.19.0 Command: rm -rf SCOPE.buildbin-libdir && mkdir SCOPE.buildbin-libdir && /Users/biocbuild/BBS/utils/build-universal.sh SCOPE_1.19.0.tar.gz /Library/Frameworks/R.framework/Resources/bin/R SCOPE.buildbin-libdir StartedAt: 2025-02-10 01:15:18 -0500 (Mon, 10 Feb 2025) EndedAt: 2025-02-10 01:16:10 -0500 (Mon, 10 Feb 2025) EllapsedTime: 52.0 seconds RetCode: 0 Status: OK PackageFile: SCOPE_1.19.0.tgz PackageFileSize: 578.6 KiB