Package: SCOPE Version: 1.19.0 Command: /Library/Frameworks/R.framework/Resources/bin/R CMD build --keep-empty-dirs --no-resave-data SCOPE StartedAt: 2025-02-04 18:13:41 -0500 (Tue, 04 Feb 2025) EndedAt: 2025-02-04 18:24:02 -0500 (Tue, 04 Feb 2025) EllapsedTime: 620.6 seconds RetCode: 0 Status: OK PackageFile: SCOPE_1.19.0.tar.gz PackageFileSize: 391.5 KiB