Package: SCOPE Version: 1.19.0 Command: /Library/Frameworks/R.framework/Resources/bin/R CMD check --install=check:SCOPE.install-out.txt --library=/Library/Frameworks/R.framework/Resources/library --no-vignettes --timings SCOPE_1.19.0.tar.gz StartedAt: 2025-02-09 23:28:08 -0500 (Sun, 09 Feb 2025) EndedAt: 2025-02-09 23:34:25 -0500 (Sun, 09 Feb 2025) EllapsedTime: 376.6 seconds RetCode: 0 Status: OK CheckDir: SCOPE.Rcheck Warnings: 0