Package: SCnorm Version: 1.29.0 Command: /Library/Frameworks/R.framework/Resources/bin/R CMD check --install=check:SCnorm.install-out.txt --library=/Library/Frameworks/R.framework/Resources/library --no-vignettes --timings SCnorm_1.29.0.tar.gz StartedAt: 2025-02-09 21:14:03 -0500 (Sun, 09 Feb 2025) EndedAt: 2025-02-09 21:15:13 -0500 (Sun, 09 Feb 2025) EllapsedTime: 69.8 seconds RetCode: 0 Status: OK CheckDir: SCnorm.Rcheck Warnings: 0