Package: SCnorm Version: 1.29.0 Command: /home/biocbuild/R/R/bin/R CMD build --keep-empty-dirs --no-resave-data SCnorm StartedAt: 2025-01-29 02:07:45 -0000 (Wed, 29 Jan 2025) EndedAt: 2025-01-29 02:10:32 -0000 (Wed, 29 Jan 2025) EllapsedTime: 167.1 seconds RetCode: 0 Status: OK PackageFile: SCnorm_1.29.0.tar.gz PackageFileSize: 2.966 MiB