Package: SCnorm Version: 1.29.0 Command: /Library/Frameworks/R.framework/Resources/bin/R CMD check --install=check:SCnorm.install-out.txt --library=/Library/Frameworks/R.framework/Resources/library --no-vignettes --timings SCnorm_1.29.0.tar.gz StartedAt: 2025-02-12 23:12:22 -0500 (Wed, 12 Feb 2025) EndedAt: 2025-02-12 23:15:43 -0500 (Wed, 12 Feb 2025) EllapsedTime: 201.2 seconds RetCode: 0 Status: OK CheckDir: SCnorm.Rcheck Warnings: 0