Package: SCnorm Version: 1.29.0 Command: /home/biocbuild/bbs-3.21-bioc/R/bin/R CMD INSTALL SCnorm StartedAt: 2025-02-12 15:32:22 -0500 (Wed, 12 Feb 2025) EndedAt: 2025-02-12 15:32:49 -0500 (Wed, 12 Feb 2025) EllapsedTime: 26.4 seconds RetCode: 0 Status: OK