Package: SCnorm Version: 1.29.0 Command: rm -rf SCnorm.buildbin-libdir && mkdir SCnorm.buildbin-libdir && E:\biocbuild\bbs-3.21-bioc\R\bin\R.exe CMD INSTALL --build --library=SCnorm.buildbin-libdir SCnorm_1.29.0.tar.gz StartedAt: 2025-02-13 08:50:22 -0500 (Thu, 13 Feb 2025) EndedAt: 2025-02-13 08:51:00 -0500 (Thu, 13 Feb 2025) EllapsedTime: 37.8 seconds RetCode: 0 Status: OK PackageFile: SCnorm_1.29.0.zip PackageFileSize: 3.047 MiB