Package: SCnorm Version: 1.29.0 Command: E:\biocbuild\bbs-3.21-bioc\R\bin\R.exe CMD check --no-multiarch --install=check:SCnorm.install-out.txt --library=E:\biocbuild\bbs-3.21-bioc\R\library --no-vignettes --timings SCnorm_1.29.0.tar.gz StartedAt: 2025-02-10 05:11:24 -0500 (Mon, 10 Feb 2025) EndedAt: 2025-02-10 05:15:24 -0500 (Mon, 10 Feb 2025) EllapsedTime: 239.8 seconds RetCode: 0 Status: OK CheckDir: SCnorm.Rcheck Warnings: 0