Package: SDAMS Version: 1.27.0 Command: /Library/Frameworks/R.framework/Resources/bin/R CMD INSTALL SDAMS StartedAt: 2025-02-09 15:10:55 -0500 (Sun, 09 Feb 2025) EndedAt: 2025-02-09 15:11:38 -0500 (Sun, 09 Feb 2025) EllapsedTime: 42.9 seconds RetCode: 0 Status: OK