Package: SDAMS Version: 1.27.0 Command: /home/biocbuild/bbs-3.21-bioc/R/bin/R CMD check --install=check:SDAMS.install-out.txt --library=/home/biocbuild/bbs-3.21-bioc/R/site-library --timings SDAMS_1.27.0.tar.gz StartedAt: 2025-02-10 02:31:01 -0500 (Mon, 10 Feb 2025) EndedAt: 2025-02-10 02:34:58 -0500 (Mon, 10 Feb 2025) EllapsedTime: 237.3 seconds RetCode: 0 Status: OK CheckDir: SDAMS.Rcheck Warnings: 0