Package: SELEX Version: 1.39.0 Command: /home/biocbuild/R/R/bin/R CMD build --keep-empty-dirs --no-resave-data SELEX StartedAt: 2025-01-29 02:16:30 -0000 (Wed, 29 Jan 2025) EndedAt: 2025-01-29 02:17:01 -0000 (Wed, 29 Jan 2025) EllapsedTime: 31.0 seconds RetCode: 0 Status: OK PackageFile: SELEX_1.39.0.tar.gz PackageFileSize: 4.032 MiB